0.846666666700
0.000000000000
0.000000000000
-0.846666666700
467955.3233
4319761.2770
